BEGIN:VCALENDAR
VERSION:2.0
PRODID:-//eventon.com NONSGML v1.0//EN
CALSCALE:GREGORIAN
METHOD:PUBLISH
BEGIN:VEVENT
UID:69ecde6d5cff7
DTSTAMP:20260425T153157Z
DTSTART:20251101T100000Z
DTEND:20251101T160000Z
LOCATION:
SUMMARY:Onderdompeling / Immersion Workshop
DESCRIPTION:een samenwerking met / in collobaration with Studio Laika metee
 n m'n plek reserveren / reserve my spot now for English scroll down &nbsp; 
 Klaar om je ware gaven te delen? Jij bent een cadeau voor de wereld. Durf j
 e jezelf te geven? In plaats van telkens terug te grijpen naar[..]\nhttps:/
 /www.heelsaam.nl/events/onderdompeling-immersion-workshop-inversion/
URL:https://www.heelsaam.nl/events/onderdompeling-immersion-workshop-inversion/
END:VEVENT
END:VCALENDAR