BEGIN:VCALENDAR
VERSION:2.0
PRODID:-//eventon.com NONSGML v1.0//EN
CALSCALE:GREGORIAN
METHOD:PUBLISH
BEGIN:VEVENT
UID:69ecf2727c110
DTSTAMP:20260425T165722Z
DTSTART:20251129T120000Z
DTEND:20251129T160000Z
LOCATION:
SUMMARY:Onderdompeling / Immersion Workshop
DESCRIPTION:een samenwerking met / in collobaration with Studio Laika Thema
  van deze dagis "innerlijk Vuur" /' Inner Fire' meer info volgt / more info
  to follow Geef je op via mailVragen/questions? Ook via mail of: +31 6 187
 06018\nhttps://www.heelsaam.nl/events/innerlijk-vuur/
URL:https://www.heelsaam.nl/events/innerlijk-vuur/
END:VEVENT
END:VCALENDAR